BEGIN:VCALENDAR
VERSION:2.0
PRODID:-//Holme Pierrepont and Gamston Parish Council//Meeting Calendar//EN
CALSCALE:GREGORIAN
METHOD:PUBLISH
BEGIN:VEVENT
UID:70592-20230523@hpg-pc.gov.uk
DTSTAMP:20260422T084049Z
DTSTART;VALUE=DATE:20230523
DTEND;VALUE=DATE:20230524
SUMMARY:Annual Council Meeting &#8211\\; 23 May 2023
DESCRIPTION:Full Council Meeting\nView details: https://hpg-pc.gov.uk/meetings/annual-council-meeting-23-may-2023/
URL:https://hpg-pc.gov.uk/meetings/annual-council-meeting-23-may-2023/
END:VEVENT
END:VCALENDAR
